BEGIN:VCALENDAR
VERSION:2.0
PRODID:-//sebbo.net//ical-generator//EN
NAME:Events Calendar
X-WR-CALNAME:Events Calendar
BEGIN:VEVENT
UID:579108c4-3ca5-425e-9e5e-423cbad4b4dc
SEQUENCE:0
DTSTAMP:20260415T140902Z
DTSTART;TZID=America/New_York:20261008T200000
DTEND;TZID=America/New_York:20261008T210000
SUMMARY:Jessie Ware: The Superbloom Tour
LOCATION:Radio City Music Hall\, New York\, NY
DESCRIPTION:Door Open Time: 7:00 PM ET \n\nBuy Tickets: https://www.ticket
 master.com/jessie-ware-the-superbloom-tour-new-york-new-york-10-08-2026/ev
 ent/3C00646B892A0FED\n\nView Event Details: https://www.msg.com/events-tic
 kets/jessie-ware-radio-city-music-hall-october-2026/3C00646B892A0FED\n\nPl
 ease note that event details are subject to change. Make sure to view even
 t details for the latest information prior to your event.
BEGIN:VALARM
ACTION:DISPLAY
TRIGGER:-PT15M
DESCRIPTION:Jessie Ware: The Superbloom Tour
END:VALARM
END:VEVENT
END:VCALENDAR