BEGIN:VCALENDAR
VERSION:2.0
PRODID:-//sebbo.net//ical-generator//EN
NAME:Events Calendar
X-WR-CALNAME:Events Calendar
BEGIN:VEVENT
UID:b00ff848-e2ed-4df4-b3f5-61229d542fa9
SEQUENCE:0
DTSTAMP:20260421T140428Z
DTSTART;TZID=America/New_York:20261231T203000
DTEND;TZID=America/New_York:20261231T213000
SUMMARY:ZARNA GARG: MILLION DOLLAR EXCUSES
LOCATION:Beacon Theatre\, New York\, NY
DESCRIPTION:Door Open Time: 7:30 PM ET \n\nBuy Tickets: https://www.ticket
 master.com/zarna-garg-million-dollar-excuses-new-york-new-york-12-31-2026/
 event/3B00648F89222360\n\nView Event Details: https://www.msg.com/events-t
 ickets/zarna-garg-beacon-theatre-december-2026/3B00648F89222360\n\nPlease 
 note that event details are subject to change. Make sure to view event det
 ails for the latest information prior to your event.
BEGIN:VALARM
ACTION:DISPLAY
TRIGGER:-PT15M
DESCRIPTION:ZARNA GARG: MILLION DOLLAR EXCUSES
END:VALARM
END:VEVENT
END:VCALENDAR