BEGIN:VCALENDAR
VERSION:2.0
PRODID:-//sebbo.net//ical-generator//EN
NAME:Events Calendar
X-WR-CALNAME:Events Calendar
BEGIN:VEVENT
UID:b592a662-62a2-40de-8b33-960476f1f82f
SEQUENCE:0
DTSTAMP:20260414T143729Z
DTSTART;TZID=America/New_York:20261124T190000
DTEND;TZID=America/New_York:20261124T200000
SUMMARY:SOMBR - You Are The Reason Tour
LOCATION:Madison Square Garden\, New York\, NY
DESCRIPTION:Door Open Time: 6:00 PM ET \n\nBuy Tickets: https://www.ticket
 master.com/sombr-you-are-the-reason-tour-new-york-new-york-11-24-2026/even
 t/3B00648AD4525028\n\nView Event Details: https://www.msg.com/events-ticke
 ts/sombr-dove-cameron-hannah-jadagu-madison-square-garden-november-2026/3B
 00648AD4525028\n\nPlease note that event details are subject to change. Ma
 ke sure to view event details for the latest information prior to your eve
 nt.
BEGIN:VALARM
ACTION:DISPLAY
TRIGGER:-PT15M
DESCRIPTION:SOMBR - You Are The Reason Tour
END:VALARM
END:VEVENT
END:VCALENDAR