BEGIN:VCALENDAR
VERSION:2.0
PRODID:-//sebbo.net//ical-generator//EN
NAME:Events Calendar
X-WR-CALNAME:Events Calendar
BEGIN:VEVENT
UID:4a2ac76d-f8e5-4008-b9e2-0c9a7866c8c0
SEQUENCE:0
DTSTAMP:20260413T141128Z
DTSTART;TZID=America/New_York:20261123T190000
DTEND;TZID=America/New_York:20261123T200000
SUMMARY:SOMBR - You Are The Reason Tour
LOCATION:Madison Square Garden\, New York\, NY
DESCRIPTION:Door Open Time: 6:00 PM ET \n\nBuy Tickets: https://www.ticket
 master.com/sombr-you-are-the-reason-tour-new-york-new-york-11-23-2026/even
 t/3B00648AD4475021\n\nView Event Details: https://www.msg.com/events-ticke
 ts/sombr-dove-cameron-hannah-jadagu-madison-square-garden-november-2026/3B
 00648AD4475021\n\nPlease note that event details are subject to change. Ma
 ke sure to view event details for the latest information prior to your eve
 nt.
BEGIN:VALARM
ACTION:DISPLAY
TRIGGER:-PT15M
DESCRIPTION:SOMBR - You Are The Reason Tour
END:VALARM
END:VEVENT
END:VCALENDAR