BEGIN:VCALENDAR
VERSION:2.0
PRODID:-//sebbo.net//ical-generator//EN
NAME:Events Calendar
X-WR-CALNAME:Events Calendar
BEGIN:VEVENT
UID:9f557ecc-d687-4079-9ac4-86998e3460a5
SEQUENCE:0
DTSTAMP:20260413T141515Z
DTSTART;TZID=America/New_York:20270306T200000
DTEND;TZID=America/New_York:20270306T210000
SUMMARY:Yesenia Then Levántate Tour
LOCATION:Infosys Theater at MSG\, New York\, NY
DESCRIPTION:Door Open Time: 7:00 PM ET \n\nBuy Tickets: https://www.ticket
 master.com/yesenia-then-levantate-tour-new-york-new-york-03-06-2027/event/
 3B006487C6AD3F42\n\nView Event Details: https://www.msg.com/events-tickets
 /yesenia-then-infosys-theater-at-madison-square-garden-march-2027/3B006487
 C6AD3F42\n\nPlease note that event details are subject to change. Make sur
 e to view event details for the latest information prior to your event.
BEGIN:VALARM
ACTION:DISPLAY
TRIGGER:-PT15M
DESCRIPTION:Yesenia Then Levántate Tour
END:VALARM
END:VEVENT
END:VCALENDAR