BEGIN:VCALENDAR
VERSION:2.0
PRODID:-//sebbo.net//ical-generator//EN
NAME:Events Calendar
X-WR-CALNAME:Events Calendar
BEGIN:VEVENT
UID:9b083182-f1e6-4035-b581-7500dc2b4e91
SEQUENCE:0
DTSTAMP:20260311T140442Z
DTSTART;TZID=America/Chicago:20260717T200000
DTEND;TZID=America/Chicago:20260717T230000
SUMMARY:Rick Ross Presents Port of Miami 20 with The Renaissance Orchestra
LOCATION:The Chicago Theatre\, Chicago\, IL
DESCRIPTION:Door Open Time: 7:00 PM CT \n\nBuy Tickets: https://www.ticket
 master.com/rick-ross-presents-port-of-miami-chicago-illinois-07-17-2026/ev
 ent/070064639AA2405D\n\nView Event Details: https://www.msg.com/events-tic
 kets/rick-ross-the-renaissance-orchestra-the-chicago-theatre-july-2026/070
 064639AA2405D\n\nPlease note that event details are subject to change. Mak
 e sure to view event details for the latest information prior to your even
 t.
BEGIN:VALARM
ACTION:DISPLAY
TRIGGER:-PT15M
DESCRIPTION:Rick Ross Presents Port of Miami 20 with The Renaissance Orche
 stra
END:VALARM
END:VEVENT
END:VCALENDAR